BEGIN:VCALENDAR
PRODID:-//Microsoft Corporation//Outlook 14.0 MIMEDIR//EN
VERSION:2.0
METHOD:PUBLISH
BEGIN:VEVENT
UID:a058059462400c26d7bf47f9256dcb0awww.cabautray.com
DTSTAMP:20260425T114958Z
DTSTART:2026-05-19T13:30:0000Z
DTEND:2026-05-19T15:30:0000Z
SUMMARY:Les P’tites vues - Spécial relâche scolaire - Jay kelly
LOCATION:180, rue de Champlain Berthierville, Québec J0K 1A0
DESCRIPTION:Les P’tites vues du CABA sur écran géant, c’est un moment de détente et de plaisir autour du visionnement de films ou documentaires, suivis d’échanges conviviaux entre participants.
END:VEVENT
END:VCALENDAR